BEGIN:VCALENDAR
VERSION:2.0
PRODID:-//CERN//INDICO//EN
BEGIN:VEVENT
SUMMARY:Theory group review talk
DTSTART;VALUE=DATE-TIME:20260716T010000Z
DTEND;VALUE=DATE-TIME:20260716T013000Z
DTSTAMP;VALUE=DATE-TIME:20260424T211914Z
UID:indico-contribution-8854@indico.icrr.u-tokyo.ac.jp
DESCRIPTION:Speakers: Yukihiro Kanda (ICRR\, University of Tokyo)\nhttps:/
 /indico.icrr.u-tokyo.ac.jp/event/1254/contributions/8854/
LOCATION:Kashiwa Large Seminar Room 601 (Kashiwa)
URL:https://indico.icrr.u-tokyo.ac.jp/event/1254/contributions/8854/
END:VEVENT
END:VCALENDAR
