BEGIN:VCALENDAR
VERSION:2.0
PRODID:-//CERN//INDICO//EN
BEGIN:VEVENT
SUMMARY:Gravitational wave review talk
DTSTART;VALUE=DATE-TIME:20260716T000000Z
DTEND;VALUE=DATE-TIME:20260716T003000Z
DTSTAMP;VALUE=DATE-TIME:20260424T164011Z
UID:indico-contribution-8856@indico.icrr.u-tokyo.ac.jp
DESCRIPTION:Speakers: Tathagata Ghosh ()\nhttps://indico.icrr.u-tokyo.ac.j
 p/event/1254/contributions/8856/
LOCATION:Kashiwa Large Seminar Room 601 (Kashiwa)
URL:https://indico.icrr.u-tokyo.ac.jp/event/1254/contributions/8856/
END:VEVENT
END:VCALENDAR
