BEGIN:VCALENDAR
VERSION:2.0
PRODID:-//CERN//INDICO//EN
BEGIN:VEVENT
SUMMARY:HK review talk
DTSTART;VALUE=DATE-TIME:20260715T050000Z
DTEND;VALUE=DATE-TIME:20260715T053000Z
DTSTAMP;VALUE=DATE-TIME:20260425T015714Z
UID:indico-contribution-8858@indico.icrr.u-tokyo.ac.jp
DESCRIPTION:Speakers: Takatomi Yano (ICRR)\nhttps://indico.icrr.u-tokyo.ac
 .jp/event/1254/contributions/8858/
LOCATION:Kashiwa Large Seminar Room 601 (Kashiwa)
URL:https://indico.icrr.u-tokyo.ac.jp/event/1254/contributions/8858/
END:VEVENT
END:VCALENDAR
