BEGIN:VCALENDAR
VERSION:2.0
PRODID:-//CERN//INDICO//EN
BEGIN:VEVENT
SUMMARY:SK review talk
DTSTART;VALUE=DATE-TIME:20260715T043000Z
DTEND;VALUE=DATE-TIME:20260715T050000Z
DTSTAMP;VALUE=DATE-TIME:20260425T004556Z
UID:indico-contribution-8859@indico.icrr.u-tokyo.ac.jp
DESCRIPTION:Speakers: Guillaume Pronost (Kamioka Observatory\, ICRR)\nhttp
 s://indico.icrr.u-tokyo.ac.jp/event/1254/contributions/8859/
LOCATION:Kashiwa Large Seminar Room 601 (Kashiwa)
URL:https://indico.icrr.u-tokyo.ac.jp/event/1254/contributions/8859/
END:VEVENT
END:VCALENDAR
