BEGIN:VCALENDAR
VERSION:2.0
PRODID:-//CERN//INDICO//EN
BEGIN:VEVENT
SUMMARY:CTA review talk
DTSTART;VALUE=DATE-TIME:20260715T013000Z
DTEND;VALUE=DATE-TIME:20260715T020000Z
DTSTAMP;VALUE=DATE-TIME:20260424T231355Z
UID:indico-contribution-8860@indico.icrr.u-tokyo.ac.jp
DESCRIPTION:Speakers: Kin Hang (Paul) YEUNG ()\nhttps://indico.icrr.u-toky
 o.ac.jp/event/1254/contributions/8860/
LOCATION:Kashiwa Large Seminar Room 601 (Kashiwa)
URL:https://indico.icrr.u-tokyo.ac.jp/event/1254/contributions/8860/
END:VEVENT
END:VCALENDAR
