BEGIN:VCALENDAR
VERSION:2.0
PRODID:-//CERN//INDICO//EN
BEGIN:VEVENT
SUMMARY:Tibet/ALPACA review talk
DTSTART;VALUE=DATE-TIME:20260715T010000Z
DTEND;VALUE=DATE-TIME:20260715T013000Z
DTSTAMP;VALUE=DATE-TIME:20260425T003048Z
UID:indico-contribution-8861@indico.icrr.u-tokyo.ac.jp
DESCRIPTION:Speakers: Marcos Anzorena (High Energy Cosmic Ray Research Div
 ision\, ICRR)\nhttps://indico.icrr.u-tokyo.ac.jp/event/1254/contributions/
 8861/
LOCATION:Kashiwa Large Seminar Room 601 (Kashiwa)
URL:https://indico.icrr.u-tokyo.ac.jp/event/1254/contributions/8861/
END:VEVENT
END:VCALENDAR
