BEGIN:VCALENDAR
VERSION:2.0
PRODID:-//CERN//INDICO//EN
BEGIN:VEVENT
SUMMARY:TA review talk
DTSTART;VALUE=DATE-TIME:20260715T003000Z
DTEND;VALUE=DATE-TIME:20260715T010000Z
DTSTAMP;VALUE=DATE-TIME:20260424T163941Z
UID:indico-contribution-8862@indico.icrr.u-tokyo.ac.jp
DESCRIPTION:Speakers: Eiji Kido ()\nhttps://indico.icrr.u-tokyo.ac.jp/even
 t/1254/contributions/8862/
LOCATION:Kashiwa Large Seminar Room 601 (Kashiwa)
URL:https://indico.icrr.u-tokyo.ac.jp/event/1254/contributions/8862/
END:VEVENT
END:VCALENDAR
