BEGIN:VCALENDAR
VERSION:2.0
PRODID:-//CERN//INDICO//EN
BEGIN:VEVENT
SUMMARY:ICRR young researchers' workshop
DTSTART;VALUE=DATE-TIME:20260715T000000Z
DTEND;VALUE=DATE-TIME:20260716T090000Z
DTSTAMP;VALUE=DATE-TIME:20260424T041639Z
UID:indico-event-1254@indico.icrr.u-tokyo.ac.jp
DESCRIPTION:Purpose\n\nThe workshop is dedicated to establishing the inter
 connections between young researchers from different research groups and f
 ields at ICRR.\n\nStyle\n\nThis year's workshop is held at the Kashiwa cam
 pus\, and in-person participation is preferred in order to have fruitful d
 iscussion.\n\nRemote connection can be setup if necessary. Please let us 
 know whether you attend the workshop onsite or online in your registrat
 ion process. The Zoom link is below.\n\nZoom link: https://u-tokyo-ac-jp.
 zoom.us/j/82159093387?pwd=2OKrKmwBYo3218NBVqaQLm3OpawSup.1\n\nMeeting ID:
  821 5909 3387\n\nPasscode: 846874\n\n※Please do not share this link p
 ublicly.\n\nBanquet\n\nAlthough there will be no banquet\, you are welcome
  to join the ICRR Summer BBQ Party if you're interested.\n\nRegistration\n
 \nYou can make your registration process from the bottom of this page. Ple
 ase complete your registration if you join this workshop.\n\nTarget\n\nPo
 stdocs\, project assistant professors\, assistant professors\, and student
 s.\n\nObserver\n\nFaculty members.\n\n\n\nhttps://indico.icrr.u-tokyo.ac.j
 p/event/1254/
LOCATION:Kashiwa Large Seminar Room 601 (Kashiwa)
URL:https://indico.icrr.u-tokyo.ac.jp/event/1254/
END:VEVENT
END:VCALENDAR
