BEGIN:VCALENDAR
VERSION:2.0
PRODID:-//CERN//INDICO//EN
BEGIN:VEVENT
SUMMARY:Opening and Poster Installation
DTSTART;VALUE=DATE-TIME:20260715T000000Z
DTEND;VALUE=DATE-TIME:20260715T003000Z
DTSTAMP;VALUE=DATE-TIME:20260425T145956Z
UID:indico-event-2432@indico.icrr.u-tokyo.ac.jp
DESCRIPTION:https://indico.icrr.u-tokyo.ac.jp/event/1254/sessions/2432/
LOCATION:Kashiwa Large Seminar Room 601 (Kashiwa)
URL:https://indico.icrr.u-tokyo.ac.jp/event/1254/sessions/2432/
END:VEVENT
END:VCALENDAR
