BEGIN:VCALENDAR
VERSION:2.0
PRODID:-//CERN//INDICO//EN
BEGIN:VEVENT
SUMMARY:Poster Session 1
DTSTART;VALUE=DATE-TIME:20260715T020000Z
DTEND;VALUE=DATE-TIME:20260715T030000Z
DTSTAMP;VALUE=DATE-TIME:20260425T160912Z
UID:indico-event-2433@indico.icrr.u-tokyo.ac.jp
DESCRIPTION:https://indico.icrr.u-tokyo.ac.jp/event/1254/sessions/2433/
LOCATION:Kashiwa Large Seminar Room 601 (Kashiwa)
URL:https://indico.icrr.u-tokyo.ac.jp/event/1254/sessions/2433/
END:VEVENT
END:VCALENDAR
