BEGIN:VCALENDAR
VERSION:2.0
PRODID:-//CERN//INDICO//EN
BEGIN:VEVENT
SUMMARY:Poster Session 2
DTSTART;VALUE=DATE-TIME:20260715T071500Z
DTEND;VALUE=DATE-TIME:20260715T081500Z
DTSTAMP;VALUE=DATE-TIME:20260425T145937Z
UID:indico-event-2434@indico.icrr.u-tokyo.ac.jp
DESCRIPTION:https://indico.icrr.u-tokyo.ac.jp/event/1254/sessions/2434/
LOCATION:Kashiwa Large Seminar Room 601 (Kashiwa)
URL:https://indico.icrr.u-tokyo.ac.jp/event/1254/sessions/2434/
END:VEVENT
END:VCALENDAR
