BEGIN:VCALENDAR
VERSION:2.0
PRODID:-//CERN//INDICO//EN
BEGIN:VEVENT
SUMMARY:Final Wrap-up: Summary\, group feedback\, photo session
DTSTART;VALUE=DATE-TIME:20260716T021500Z
DTEND;VALUE=DATE-TIME:20260716T030000Z
DTSTAMP;VALUE=DATE-TIME:20260425T145947Z
UID:indico-event-2436@indico.icrr.u-tokyo.ac.jp
DESCRIPTION:https://indico.icrr.u-tokyo.ac.jp/event/1254/sessions/2436/
LOCATION:Kashiwa Large Seminar Room 601 (Kashiwa)
URL:https://indico.icrr.u-tokyo.ac.jp/event/1254/sessions/2436/
END:VEVENT
END:VCALENDAR
