BEGIN:VCALENDAR
VERSION:2.0
PRODID:-//CERN//INDICO//EN
BEGIN:VEVENT
SUMMARY:SK review talk
DTSTART;VALUE=DATE-TIME:20260715T043000Z
DTEND;VALUE=DATE-TIME:20260715T050000Z
DTSTAMP;VALUE=DATE-TIME:20260425T134527Z
UID:indico-contribution-2440-8859@indico.icrr.u-tokyo.ac.jp
DESCRIPTION:Speakers: Guillaume Pronost (Kamioka Observatory\, ICRR)\nhttp
 s://indico.icrr.u-tokyo.ac.jp/event/1254/contributions/8859/
LOCATION:Kashiwa Large Seminar Room 601 (Kashiwa)
URL:https://indico.icrr.u-tokyo.ac.jp/event/1254/contributions/8859/
END:VEVENT
BEGIN:VEVENT
SUMMARY:HK review talk
DTSTART;VALUE=DATE-TIME:20260715T050000Z
DTEND;VALUE=DATE-TIME:20260715T053000Z
DTSTAMP;VALUE=DATE-TIME:20260425T134527Z
UID:indico-contribution-2440-8858@indico.icrr.u-tokyo.ac.jp
DESCRIPTION:Speakers: Takatomi Yano (ICRR)\nhttps://indico.icrr.u-tokyo.ac
 .jp/event/1254/contributions/8858/
LOCATION:Kashiwa Large Seminar Room 601 (Kashiwa)
URL:https://indico.icrr.u-tokyo.ac.jp/event/1254/contributions/8858/
END:VEVENT
BEGIN:VEVENT
SUMMARY:T2K review talk
DTSTART;VALUE=DATE-TIME:20260715T053000Z
DTEND;VALUE=DATE-TIME:20260715T060000Z
DTSTAMP;VALUE=DATE-TIME:20260425T134527Z
UID:indico-contribution-2440-8857@indico.icrr.u-tokyo.ac.jp
DESCRIPTION:Speakers: Seisho Abe ()\nhttps://indico.icrr.u-tokyo.ac.jp/eve
 nt/1254/contributions/8857/
LOCATION:Kashiwa Large Seminar Room 601 (Kashiwa)
URL:https://indico.icrr.u-tokyo.ac.jp/event/1254/contributions/8857/
END:VEVENT
BEGIN:VEVENT
SUMMARY:XENON review talk
DTSTART;VALUE=DATE-TIME:20260715T061500Z
DTEND;VALUE=DATE-TIME:20260715T064500Z
DTSTAMP;VALUE=DATE-TIME:20260425T134527Z
UID:indico-contribution-2440-8853@indico.icrr.u-tokyo.ac.jp
DESCRIPTION:Speakers: Masashi Yoshida ()\nhttps://indico.icrr.u-tokyo.ac.j
 p/event/1254/contributions/8853/
LOCATION:Kashiwa Large Seminar Room 601 (Kashiwa)
URL:https://indico.icrr.u-tokyo.ac.jp/event/1254/contributions/8853/
END:VEVENT
BEGIN:VEVENT
SUMMARY:Observational cosmology review talk
DTSTART;VALUE=DATE-TIME:20260715T064500Z
DTEND;VALUE=DATE-TIME:20260715T071500Z
DTSTAMP;VALUE=DATE-TIME:20260425T134527Z
UID:indico-contribution-2440-8852@indico.icrr.u-tokyo.ac.jp
DESCRIPTION:Speakers: Sun Dongsheng ()\nhttps://indico.icrr.u-tokyo.ac.jp/
 event/1254/contributions/8852/
LOCATION:Kashiwa Large Seminar Room 601 (Kashiwa)
URL:https://indico.icrr.u-tokyo.ac.jp/event/1254/contributions/8852/
END:VEVENT
END:VCALENDAR
